View In:
ArcGIS JavaScript
ArcGIS Online Map Viewer
ArcGIS Earth
Service Description: The Cook County Bureau of Technology (BOT) and the U.S. Geological Survey (USGS) have collaborated on a comprehensive project to survey and map selected surface water bodies in Cook County, Illinois. This initiative addresses critical needs in surface-water and storm water management, emergency response, construction permitting, and aquatic habitat research. The carefully selected water bodies were surveyed based on size, accessibility, existing data availability, and current usage. The project involved collecting, processing, and analyzing bathymetric data and ancillary water-quality information. Notably, the collected data has been meticulously preprocessed into high-resolution lake polygons and detailed 2-foot interval contours. By combining cutting-edge data collection techniques with advanced preprocessing methods, this project sets a new standard for aquatic mapping in urban areas, ultimately contributing to more sustainable and effective water management practices in Cook County.
Name: bathymetric_survey_3m_depth_surfaces_raster
Description: The Cook County Bureau of Technology (BOT) and the U.S. Geological Survey (USGS) have collaborated on a comprehensive project to survey and map selected surface water bodies in Cook County, Illinois. This initiative addresses critical needs in surface-water and storm water management, emergency response, construction permitting, and aquatic habitat research. The carefully selected water bodies were surveyed based on size, accessibility, existing data availability, and current usage. The project involved collecting, processing, and analyzing bathymetric data and ancillary water-quality information. Notably, the collected data has been meticulously preprocessed into high-resolution lake polygons and detailed 2-foot interval contours. By combining cutting-edge data collection techniques with advanced preprocessing methods, this project sets a new standard for aquatic mapping in urban areas, ultimately contributing to more sustainable and effective water management practices in Cook County.
Single Fused Map Cache: false
Extent:
XMin: 1005632.9180490286
YMin: 1755289.558857924
XMax: 1209470.9180490286
YMax: 1998808.558857924
Spatial Reference: 102671
(3435)
LatestVCSWkid(0)
Initial Extent:
XMin: 1005632.9180490286
YMin: 1755289.558857924
XMax: 1209470.9180490286
YMax: 1998808.558857924
Spatial Reference: 102671
(3435)
LatestVCSWkid(0)
Full Extent:
XMin: 1005632.9180490286
YMin: 1755289.558857924
XMax: 1209470.9180490286
YMax: 1998808.558857924
Spatial Reference: 102671
(3435)
LatestVCSWkid(0)
Pixel Size X: 3.0
Pixel Size Y: 3.0
Band Count: 1
Pixel Type: U8
RasterFunction Infos: {"rasterFunctionInfos": [{
"name": "None",
"description": "",
"help": ""
}]}
Mensuration Capabilities: Basic
Inspection Capabilities:
Has Histograms: true
Has Colormap: false
Has Multi Dimensions : false
Rendering Rule:
Min Scale: 0
Max Scale: 0
Copyright Text:
Service Data Type: esriImageServiceDataTypeGeneric
Min Values: 0
Max Values: 57
Mean Values: 6.955131095581784
Standard Deviation Values: 9.304117484958978
Object ID Field:
Fields:
None
Default Mosaic Method: Center
Allowed Mosaic Methods:
SortField:
SortValue: null
Mosaic Operator: First
Default Compression Quality: 75
Default Resampling Method: Bilinear
Max Record Count: null
Max Image Height: 4100
Max Image Width: 15000
Max Download Image Count: null
Max Mosaic Image Count: null
Allow Raster Function: true
Allow Copy: true
Allow Analysis: true
Allow Compute TiePoints: false
Supports Statistics: false
Supports Advanced Queries: false
Use StandardizedQueries: true
Raster Type Infos:
Name: Raster Dataset
Description: Supports all ArcGIS Raster Datasets
Help:
Has Raster Attribute Table: false
Edit Fields Info: null
Ownership Based AccessControl For Rasters: null
Child Resources:
Info
Histograms
Statistics
Key Properties
Legend
Raster Function Infos
Supported Operations:
Export Image
Identify
Measure
Compute Histograms
Compute Statistics Histograms
Get Samples
Compute Class Statistics
Query Boundary
Compute Pixel Location
Compute Angles
Validate
Project