{
 "currentVersion": 11.5,
 "serviceDescription": "The Cook County Bureau of Technology (BOT) and the U.S. Geological Survey (USGS) have collaborated on a comprehensive project to survey and map selected surface water bodies in Cook County, Illinois. This initiative addresses critical needs in surface-water and storm water management, emergency response, construction permitting, and aquatic habitat research. The carefully selected water bodies were surveyed based on size, accessibility, existing data availability, and current usage. The project involved collecting, processing, and analyzing bathymetric data and ancillary water-quality information. Notably, the collected data has been meticulously preprocessed into high-resolution lake polygons and detailed 2-foot interval contours. By combining cutting-edge data collection techniques with advanced preprocessing methods, this project sets a new standard for aquatic mapping in urban areas, ultimately contributing to more sustainable and effective water management practices in Cook County.<\/span>",
 "serviceItemId": "a3eb104cd6a84af9b3da2fa9e663a75a",
 "name": "bathymetric_survey_3m_depth_surfaces_raster",
 "description": "The Cook County Bureau of Technology (BOT) and the U.S. Geological Survey (USGS) have collaborated on a comprehensive project to survey and map selected surface water bodies in Cook County, Illinois. This initiative addresses critical needs in surface-water and storm water management, emergency response, construction permitting, and aquatic habitat research. The carefully selected water bodies were surveyed based on size, accessibility, existing data availability, and current usage. The project involved collecting, processing, and analyzing bathymetric data and ancillary water-quality information. Notably, the collected data has been meticulously preprocessed into high-resolution lake polygons and detailed 2-foot interval contours. By combining cutting-edge data collection techniques with advanced preprocessing methods, this project sets a new standard for aquatic mapping in urban areas, ultimately contributing to more sustainable and effective water management practices in Cook County.<\/span>",
 "extent": {
  "xmin": 1005632.9180490286,
  "ymin": 1755289.558857924,
  "xmax": 1209470.9180490286,
  "ymax": 1998808.558857924,
  "spatialReference": {
   "wkid": 102671,
   "latestWkid": 3435
  }
 },
 "initialExtent": {
  "xmin": 1005632.9180490286,
  "ymin": 1755289.558857924,
  "xmax": 1209470.9180490286,
  "ymax": 1998808.558857924,
  "spatialReference": {
   "wkid": 102671,
   "latestWkid": 3435
  }
 },
 "fullExtent": {
  "xmin": 1005632.9180490286,
  "ymin": 1755289.558857924,
  "xmax": 1209470.9180490286,
  "ymax": 1998808.558857924,
  "spatialReference": {
   "wkid": 102671,
   "latestWkid": 3435
  }
 },
 "sortableFields": "",
 "bandCount": 1,
 "pixelType": "U8",
 "minValues": [
  0
 ],
 "maxValues": [
  57
 ],
 "meanValues": [
  6.955131095581784
 ],
 "stdvValues": [
  9.304117484958978
 ],
 "serviceProperties": "Center<\/MosaicMethod>First<\/MosaicOperator>true<\/SortAscending><\/LockImageID><\/TileOrderField>0<\/TileOrderBase>0.000000<\/AvgImageSpacingX>0.000000<\/AvgImageSpacingY>0.0<\/ViewPointX>0.0<\/ViewPointY>0.0<\/ViewPointDefShiftX>0.0<\/ViewPointDefShiftY>None<\/CompressionMethod>75<\/CompressionQuality>0.010000<\/CompressionTolerance>Bilinear<\/SamplingMethod><\/ImageServiceProperties><\/ImageServer>",
 "allowedFields": "",
 "hasMultidimensions": false,
 "pixelSizeX": 3,
 "pixelSizeY": 3,
 "meanPixelSize": 0.9144018288036577,
 "datasetFormat": "FGDBR",
 "uncompressedSize": 5515380658,
 "blockWidth": 128,
 "blockHeight": 128,
 "compressionType": "LZ77",
 "bandNames": [
  "Band_1"
 ],
 "allowCopy": true,
 "allowAnalysis": true,
 "itemAccess": false,
 "inspectionCapabilities": "",
 "minPixelSize": 0,
 "maxPixelSize": 0,
 "copyrightText": "",
 "serviceDataType": "esriImageServiceDataTypeGeneric",
 "serviceSourceType": "esriImageServiceSourceTypeDataset",
 "objectIdField": "",
 "fields": [],
 "capabilities": "Image,Metadata,Pixels,Mensuration",
 "defaultMosaicMethod": "Center",
 "allowedMosaicMethods": "",
 "sortField": "",
 "sortValue": null,
 "sortAscending": true,
 "mosaicOperator": "First",
 "defaultCompressionQuality": 75,
 "defaultResamplingMethod": "Bilinear",
 "maxImageHeight": 4100,
 "maxImageWidth": 15000,
 "allowRasterFunction": true,
 "rasterFunctionInfos": [
  {
   "name": "None",
   "description": "",
   "help": ""
  }
 ],
 "rasterTypeInfos": [
  {
   "name": "Raster Dataset",
   "description": "Supports all ArcGIS Raster Datasets",
   "help": ""
  }
 ],
 "mensurationCapabilities": "Basic",
 "hasHistograms": true,
 "hasColormap": false,
 "hasRasterAttributeTable": false,
 "minScale": 0,
 "maxScale": 0,
 "exportTilesAllowed": false,
 "supportsStatistics": false,
 "supportsAdvancedQueries": false,
 "editFieldsInfo": null,
 "ownershipBasedAccessControlForRasters": null,
 "allowComputeTiePoints": false,
 "useStandardizedQueries": true,
 "advancedQueryCapabilities": {
  "useStandardizedQueries": true,
  "supportsStatistics": false,
  "supportsOrderBy": false,
  "supportsDistinct": false,
  "supportsPagination": false
 },
 "spatialReference": {
  "wkid": 102671,
  "latestWkid": 3435
 }
}
