View In:
ArcGIS JavaScript
ArcGIS Online Map Viewer
ArcGIS Earth
Service Description: The DEM of Cook County was developed from the DEM tiles that were delivered after the 2022 LiDAR acquisition. This DEM assembles all the tiles into one raster. It displays the bare earth returns of the LiDAR as a raster.
There were no data values recorded in the Lidar for a small area of the Calumet Shores Gull Island wetland. The lidar is intended to return surface elevation for waterbodies; however in this instance there is a reflectance error. A corrected value for the surface elevation of 579.26 was calculated using a constant value raster. The original 3 tiffs are available (18508225.tif,18508250.tif, 18758250.tif).
Name: DEM2022
Description: The DEM of Cook County was developed from the DEM tiles that were delivered after the 2022 LiDAR acquisition. This DEM assembles all the tiles into one raster. It displays the bare earth returns of the LiDAR as a raster.
There were no data values recorded in the Lidar for a small area of the Calumet Shores Gull Island wetland. The lidar is intended to return surface elevation for waterbodies; however in this instance there is a reflectance error. A corrected value for the surface elevation of 579.26 was calculated using a constant value raster. The original 3 tiffs are available (18508225.tif,18508250.tif, 18758250.tif).
Single Fused Map Cache: false
Extent:
XMin: 995000.0
YMin: 1740000.0
XMax: 1212500.0
YMax: 2007500.0
Spatial Reference: 0
(0)
LatestVCSWkid(0)
Initial Extent:
XMin: 995000.0
YMin: 1740000.0
XMax: 1212500.0
YMax: 2007500.0
Spatial Reference: 0
(0)
LatestVCSWkid(0)
Full Extent:
XMin: 995000.0
YMin: 1740000.0
XMax: 1212500.0
YMax: 2007500.0
Spatial Reference: 0
(0)
LatestVCSWkid(0)
Pixel Size X: 1.0
Pixel Size Y: 1.0
Band Count: 1
Pixel Type: F32
RasterFunction Infos: {"rasterFunctionInfos": [
{
"name": "None",
"description": "Make a Raster or Raster Dataset into a Function Raster Dataset.",
"help": ""
},
{
"name": "None",
"description": "Make a Raster or Raster Dataset into a Function Raster Dataset.",
"help": ""
}
]}
Mensuration Capabilities: Basic
Inspection Capabilities:
Has Histograms: true
Has Colormap: false
Has Multi Dimensions : false
Rendering Rule:
Min Scale: 0
Max Scale: 0
Resampling: false
Copyright Text: Cook County GIS Department
Service Data Type: esriImageServiceDataTypeGeneric
Min Values: 218.77699279785156
Max Values: 949.1519775390625
Mean Values: 669.5246651462563
Standard Deviation Values: 75.27037265608415
Object ID Field: OBJECTID
Fields:
-
OBJECTID
(
type: esriFieldTypeOID, alias: OBJECTID
)
-
Shape
(
type: esriFieldTypeGeometry, alias: Shape
)
-
Name
(
type: esriFieldTypeString, alias: Name, length: 200
)
-
MinPS
(
type: esriFieldTypeDouble, alias: MinPS
)
-
MaxPS
(
type: esriFieldTypeDouble, alias: MaxPS
)
-
LowPS
(
type: esriFieldTypeDouble, alias: LowPS
)
-
HighPS
(
type: esriFieldTypeDouble, alias: HighPS
)
-
Category
(
type: esriFieldTypeInteger, alias: Category
, Coded Values:
[0: Unknown]
, [1: Primary]
, [2: Overview]
, ...6 more...
)
-
Tag
(
type: esriFieldTypeString, alias: Tag, length: 100
)
-
GroupName
(
type: esriFieldTypeString, alias: GroupName, length: 100
)
-
ProductName
(
type: esriFieldTypeString, alias: ProductName, length: 100
)
-
CenterX
(
type: esriFieldTypeDouble, alias: CenterX
)
-
CenterY
(
type: esriFieldTypeDouble, alias: CenterY
)
-
ZOrder
(
type: esriFieldTypeInteger, alias: ZOrder
)
-
Shape_Length
(
type: esriFieldTypeDouble, alias: Shape_Length
)
-
Shape_Area
(
type: esriFieldTypeDouble, alias: Shape_Area
)
Default Mosaic Method: Northwest
Allowed Mosaic Methods: NorthWest,Center,LockRaster,ByAttribute,Nadir,Viewpoint,Seamline,None
SortField:
SortValue: null
Mosaic Operator: First
Default Compression Quality: 75
Default Resampling Method: Bilinear
Max Record Count: 1000
Max Image Height: 267500
Max Image Width: 217500
Max Download Image Count: 400
Max Mosaic Image Count: 40
Allow Raster Function: true
Allow Copy: true
Allow Analysis: true
Allow Compute TiePoints: false
Supports Statistics: true
Supports Advanced Queries: true
Use StandardizedQueries: true
Raster Type Infos:
Name: Raster Dataset
Description: Supports all ArcGIS Raster Datasets
Help:
Has Raster Attribute Table: false
Edit Fields Info: null
Ownership Based AccessControl For Rasters: null
Child Resources:
Info
Histograms
Statistics
Key Properties
Legend
Raster Function Infos
Supported Operations:
Export Image
Query
Identify
Download Rasters
Get Image Url
Measure
Compute Histograms
Compute Statistics Histograms
Get Samples
Compute Class Statistics
Query GPS Info
Find Images
Image to Map
Map to Image
Measure from Image
Image to Map Multiray
Query Boundary
Compute Pixel Location
Compute Angles
Validate
Project