View In:
ArcGIS JavaScript
ArcGIS Online Map Viewer
ArcGIS Earth
Service Description: The DEM of Cook County was developed from the DEM tiles that were delivered after the 2017 LiDAR acquisition. This DEM assembles all the tiles into one raster. It displays the bare earth returns of the LiDAR as a raster.
Name: CookDEM2017
Description: The DEM of Cook County was developed from the DEM tiles that were delivered after the 2017 LiDAR acquisition. This DEM assembles all the tiles into one raster. It displays the bare earth returns of the LiDAR as a raster.
Single Fused Map Cache: false
Extent:
XMin: 1002500.449331101
YMin: 1738936.092346754
XMax: 1215527.449331101
YMax: 2000000.092346754
Spatial Reference: 0
(0)
LatestVCSWkid(0)
Initial Extent:
XMin: 1002500.449331101
YMin: 1738936.092346754
XMax: 1215527.449331101
YMax: 2000000.092346754
Spatial Reference: 0
(0)
LatestVCSWkid(0)
Full Extent:
XMin: 1002500.449331101
YMin: 1738936.092346754
XMax: 1215527.449331101
YMax: 2000000.092346754
Spatial Reference: 0
(0)
LatestVCSWkid(0)
Pixel Size X: 1.0
Pixel Size Y: 1.0
Band Count: 1
Pixel Type: F32
RasterFunction Infos: {"rasterFunctionInfos": [{
"name": "None",
"description": "",
"help": ""
}]}
Mensuration Capabilities: Basic
Inspection Capabilities:
Has Histograms: true
Has Colormap: false
Has Multi Dimensions : false
Rendering Rule:
Min Scale: 0
Max Scale: 0
Resampling: false
Copyright Text: Cook County GIS Department, USGS
Service Data Type: esriImageServiceDataTypeGeneric
Min Values: 0.003552784211933613
Max Values: 949.0763549804688
Mean Values: 666.5440283215302
Standard Deviation Values: 71.64774959845654
Object ID Field:
Fields:
None
Default Mosaic Method: Center
Allowed Mosaic Methods:
SortField:
SortValue: null
Mosaic Operator: First
Default Compression Quality: 75
Default Resampling Method: Bilinear
Max Record Count: null
Max Image Height: 10000
Max Image Width: 25000
Max Download Image Count: null
Max Mosaic Image Count: null
Allow Raster Function: true
Allow Copy: true
Allow Analysis: true
Allow Compute TiePoints: false
Supports Statistics: false
Supports Advanced Queries: false
Use StandardizedQueries: true
Raster Type Infos:
Name: Raster Dataset
Description: Supports all ArcGIS Raster Datasets
Help:
Has Raster Attribute Table: false
Edit Fields Info: null
Ownership Based AccessControl For Rasters: null
Child Resources:
Info
Histograms
Statistics
Key Properties
Legend
Raster Function Infos
Supported Operations:
Export Image
Identify
Measure
Compute Histograms
Compute Statistics Histograms
Get Samples
Compute Class Statistics
Query Boundary
Compute Pixel Location
Compute Angles
Validate
Project